Workbook

Sheet zgłoszenia magazynów energii
B1: Arkusz danych do do zgłoszeń magazynów energii powyżej 30 kWh
B2: https://solwis.pl/zgloszenia-magazynow-energii
B3: 1. Uzupełnij dane do projektu
B4: 2. Dodaj do pola załączniki w zadaniu: | C4: www.solwis.pl/zamow-projekt
B5: 3. Masz problem ? Zadzwoń: 728087956
B6: zmienna | C6: wartość | D6: komentarz / przykłady
B7: dane dot. Inwestora
B8: nazwa lub imię i nazwisko Inwestora
B9: adres Inwestora
B10: dane dot. nieruchomości
B11: adres nieruchomości
B12: identyfikator działki ewidencyjnej
B13: dane dot. robót budowlanych
B14: rodzaj robót | D14: np. „budowa wolnostojącego magazynu energii elektrycznej” / „instalowanie magazynu energii elektrycznej na istniejącym budynku magazynowym”
B15: zakres i sposób wykonywania | D15: technicznie: fundament, posadowienie, sposób kotwienia, sposób wpięcia, etapy prac
B16: termin rozpoczęcia robót | D16: minimum + 21 dni od dnia doręczenia zgłoszenia
B17: dane dot. magazynu energii oraz obiektu
B18: producent i model akumulatora
B19: pojemność magazynu energii | D19: w kWh, sama cyfra np. 10
B20: technologia akumulatora | D20: kliknij obok w komórce B47 aby wybrać z listy. Patrz wytyczne dla akumulatorów: | E20: www.solwis.pl/akumulatory
B21: miejsce montażu magazynu energii | D21: np. garaż / na zewnątrz
B22: sposób montażu | D22: np. podwieszany na ścianie, na stelażu własnym, wolnostojący
B23: rodzaj obiektu w którym zamontowano magazyn energii (wybierz z listy) | C23: budynek mieszkalny jednorodzinny | D23: kliknij obok w komórce B14 aby wybrać z listy. Pełna rozpiska w arkuszu "obiekty - legenda".
B24: sposób wykorzystania obiektu/ów (tylko jeśli wybrano "inny" powyżej) | D24: dotyczy tylko obiektów "innych" z pola C23. Wpisujemy sposób użytkowania np. sklep, obiekt usługowy, magazyn (czego), budynek gospodarczy, warsztat samochodowy, warsztat stolarski, spichlerz itp.
B25: obowiązek stosowania Przeciwpożarowego Wyłącznika Prądu (PWP) - (wybierz z listy) | C25: NIE DOTYCZY - budynek mieszkalny jednorodzinny lub magazyn energii na zewnątrz budynku | D25: Obowiązek jest ustanowiony dla wszystkich obiektów innych niż budynek mieszkalny jednorodzinny, dla których kubatura strefy pożarowej jest wyższa niż 1000 m³. Strefa pożarowa to więcej niż sam budynek - granicą strefy jest ściana oddzielnia ppoż (nie każdy budynek taką ścianę posiada) lub odległość od innych budynków - min. 8 m w zależności od wysokości i innych czynników.
B26: lokalizacja głównego wyłącznika prądu dla obiektu (na zewnątrz) | D26: np.: złącze kablowe na ścianie budynku, zabezpieczenie przedlicznikowe w granicy działki, brak (przyłącze napowietrzne), w innym budynku: …..
B27: lokalizacja przycisków PWP (jeśli istnieją na obiekcie) | D27: typowo: przy głównym wejściu do obiektu
B28: nazwa i adres Wykonawcy | D28: opcjonalnie - jeśli podane, zostanie dodane na pierwszej stronie
B29: data opracowania | D29: może być data bieżąca lub wsteczna

Sheet obiekty - legenda
C1: rodzaje obiektów: | D1: Obowiązek PWP: | E1: strefy zagrożenia wybuchem | F1: instrukcja bezpieczeństwa pożarowego | G1: instalacja odgromowa | H1: technologia akumulatorowa | I1: Rodzaj linii zasilającej obiekt (strona AC) | J1: Współczynnik położenia obiektu | K1: Współczynnik środowiska | L1: Szczególne zagrożenia | M1: PWP - projektowane maksymalne napięcie na wejście rozłącznika | O1: materiał żyły
C2: budynek mieszkalny jednorodzinny | D2: NIE DOTYCZY - budynek mieszkalny jednorodzinny lub magazyn energii na zewnątrz budynku | E2: TAK | F2: TAK | G2: TAK | I2: Linia zakopana | J2: Obiekt otoczony wyższymi obiektami lub drzewami | K2: Miejskie (wysokość budynków wyższa niż 20m) | L2: Brak szczególnego zagrożenia | M2: do 1500 Vdc | O2: miedź
C3: magazyn wolnostojący na zewnątrz | D3: TAK - jeśli magazyn energii jest w środku obiektu, potrzebne będzie automatyczne rozłączanie strony DC na wejściu przewodów solarnych do obiektu | E3: NIE | F3: NIE | G3: NIE | H3: LiFePO4 | I3: Linia napowietrzna | J3: Obiekt otoczony obiektami lub drzewami o tej samej wysokości lub mniejszymi | K3: Miejskie (wysokość budynków od 10 do 20m) | L3: Nisko poziom paniki (nie więcej niż 100 osób) | M3: do 1000 Vdc | O3: aluminium
C4: inne | D4: NIE (strefa pożarowa nie przekracza 1000 m³ i brak stref zagrożenia wybuchem) | H4: Li-ion (wybuchowe) | J4: Obiekt odosobniony: brak w pobliżu innych obiektów | K4: Podmiejskie | L4: Średni poziom paniki (między 100 a 1000 osób)
H5: kwasowo-ołowiowe | J5: Obiekt odosobniony: na szczycie wzgórza lub pagórka | K5: Wiejskie | L5: Trudności ewakuacyjne (osoby wymagające pomocy)
H6: inne niewybuchowe (Ni-CD, Ni-MH) | L6: Wysoki poziom paniki (powyżej 1000 osób)
H7: inne: przejdź do arkusza "obiekty - legenda" i wpisz w komórce G6 zamieniając ten tekst | L7: Zagrożenia do otoczenia lub środowiska
L8: Skażenie otoczenia lub środowiska

Sheet 1obliczenia
A1: Tego arkusza NIE uzupełniamy | C1: ='zgłoszenia magazynów energii'!B6 -> zmienna | D1: ='zgłoszenia magazynów energii'!B8 -> nazwa lub imię i nazwisko Inwestora | E1: ='zgłoszenia magazynów energii'!B9 -> adres Inwestora | F1: ='zgłoszenia magazynów energii'!B11 -> adres nieruchomości | G1: ='zgłoszenia magazynów energii'!B12 -> identyfikator działki ewidencyjnej | H1: ='zgłoszenia magazynów energii'!B14 -> rodzaj robót | I1: ='zgłoszenia magazynów energii'!B15 -> zakres i sposób wykonywania | J1: ='zgłoszenia magazynów energii'!B16 -> termin rozpoczęcia robót | K1: ='zgłoszenia magazynów energii'!B18 -> producent i model akumulatora | L1: ='zgłoszenia magazynów energii'!B19 -> pojemność magazynu energii | M1: ='zgłoszenia magazynów energii'!B20 -> technologia akumulatora | N1: ='zgłoszenia magazynów energii'!B21 -> miejsce montażu magazynu energii | O1: ='zgłoszenia magazynów energii'!B22 -> sposób montażu | P1: ='zgłoszenia magazynów energii'!B23 -> rodzaj obiektu w którym zamontowano magazyn energii (wybierz z listy) | Q1: ='zgłoszenia magazynów energii'!B24 -> sposób wykorzystania obiektu/ów (tylko jeśli wybrano "inny" powyżej) | R1: ='zgłoszenia magazynów energii'!B25 -> obowiązek stosowania Przeciwpożarowego Wyłącznika Prądu (PWP) - (wybierz z listy) | S1: ='zgłoszenia magazynów energii'!B26 -> lokalizacja głównego wyłącznika prądu dla obiektu (na zewnątrz) | T1: ='zgłoszenia magazynów energii'!B27 -> lokalizacja przycisków PWP (jeśli istnieją na obiekcie) | U1: ='zgłoszenia magazynów energii'!B28 -> nazwa i adres Wykonawcy | V1: ='zgłoszenia magazynów energii'!B29 -> data opracowania
C2: ='zgłoszenia magazynów energii'!C6 -> wartość | D2: ='zgłoszenia magazynów energii'!C8 -> 0 | E2: ='zgłoszenia magazynów energii'!C9 -> 0 | F2: ='zgłoszenia magazynów energii'!C11 -> 0 | G2: ='zgłoszenia magazynów energii'!C12 -> 0 | H2: ='zgłoszenia magazynów energii'!C14 -> 0 | I2: ='zgłoszenia magazynów energii'!C15 -> 0 | J2: ='zgłoszenia magazynów energii'!C16 -> 0 | K2: ='zgłoszenia magazynów energii'!C18 -> 0 | L2: ='zgłoszenia magazynów energii'!C19 -> 0 | M2: ='zgłoszenia magazynów energii'!C20 -> 0 | N2: ='zgłoszenia magazynów energii'!C21 -> 0 | O2: ='zgłoszenia magazynów energii'!B23 -> rodzaj obiektu w którym zamontowano magazyn energii (wybierz z listy) | P2: ='zgłoszenia magazynów energii'!C23 -> budynek mieszkalny jednorodzinny | Q2: ='zgłoszenia magazynów energii'!C24 -> 0 | R2: ='zgłoszenia magazynów energii'!C25 -> NIE DOTYCZY - budynek mieszkalny jednorodzinny lub magazyn energii na zewnątrz budynku | S2: ='zgłoszenia magazynów energii'!C26 -> 0 | T2: ='zgłoszenia magazynów energii'!C27 -> 0 | U2: ='zgłoszenia magazynów energii'!C28 -> 0 | V2: ='zgłoszenia magazynów energii'!C29 -> 0
